BEGIN:VCALENDAR
X-LOTUS-CHARSET:UTF-8
VERSION:2.0
PRODID:4WsNetdesignCalendar-denzlingen.de
METHOD:PUBLISH
CALSCALE:GREGORIAN
X-WR-TIMEZONE:Europe/Berlin
BEGIN:VTIMEZONE
TZID:Europe/Berlin
X-LIC-LOCATION:Europe/Berlin
BEGIN:DAYLIGHT
TZOFFSETFROM:+0100
TZOFFSETTO:+0200
TZNAME:CEST
DTSTART:19700329T020000
RRULE:FREQ=YEARLY;INTERVAL=1;BYDAY=-1SU;BYMONTH=3
END:DAYLIGHT
BEGIN:STANDARD
TZOFFSETFROM:+0200
TZOFFSETTO:+0100
TZNAME:CET
DTSTART:19701025T030000
RRULE:FREQ=YEARLY;INTERVAL=1;BYDAY=-1SU;BYMONTH=10
END:STANDARD
END:VTIMEZONE
BEGIN:VEVENT
UID:0779492001776940306@denzlingen.de9009504976
CLASS:PUBLIC
DTSTAMP:20260423T103146Z
DTSTART:20260704T220000Z
DTEND:20260705T150000Z
SUMMARY:Besichtigung Denzlinger Heimatmuseum
DESCRIPTION:Veranstalter: Heimat- und Geschichtsverein
  Denzlingen e.V.\nVeranstalter: Heimatmuseum, Hauptstraße
  76, Denzlingen
END:VEVENT
END:VCALENDAR
